BEGIN:VCALENDAR
VERSION:2.0
PRODID:-//musée du temps de Besançon - ECPv5.14.2.1//NONSGML v1.0//EN
CALSCALE:GREGORIAN
METHOD:PUBLISH
X-WR-CALNAME:musée du temps de Besançon
X-ORIGINAL-URL:https://www.mdt.besancon.fr
X-WR-CALDESC:évènements pour musée du temps de Besançon
BEGIN:VTIMEZONE
TZID:Europe/Paris
BEGIN:DAYLIGHT
TZOFFSETFROM:+0100
TZOFFSETTO:+0200
TZNAME:CEST
DTSTART:20260329T010000
END:DAYLIGHT
BEGIN:STANDARD
TZOFFSETFROM:+0200
TZOFFSETTO:+0100
TZNAME:CET
DTSTART:20261025T010000
END:STANDARD
END:VTIMEZONE
BEGIN:VEVENT
DTSTART;TZID=Europe/Paris:20260620T100000
DTEND;TZID=Europe/Paris:20260621T180000
DTSTAMP:20260425T211834
CREATED:20260424T131643Z
LAST-MODIFIED:20260424T131643Z
UID:6833-1781949600-1782064800@www.mdt.besancon.fr
SUMMARY:Les 24h du temps / les 20 et 21 juin 2026
DESCRIPTION:Les 24 Heures du Temps font le tour du cadran et donnent rendez-vous à Besançon pour une 12e édition placée sous le signe du vintage. \nPendant tout un week-end\, la capitale française de l’horlogerie célèbre l’inspiration que le passé continue d’exercer sur la création contemporaine : montres iconiques\, design néo-vintage\, savoir-faire et transmission. \nEntre exposition horlogère\, rencontres\, conférences\, animations et expériences immersives\, l’événement propose une\nexploration vivante de l’univers du temps pour le grand public comme pour les professionnels. \nCette 12e édition propose un programme bien spécial et des moments privilégiés à partager avec les marques horlogères\, les créateurs\, les organismes de formation\, les laboratoires de recherche et le territoire invité d’honneur : Arc Horloger. \n\nProgrammation complète sur : https://www.les24hdutemps.fr/ \n\nProgrammation du musée du Temps et réservation sur : https://vosdemarches.grandbesancon.fr/billetterie/mat/index/fin//deb//tags/24h+du+Temps \n 
URL:https://www.mdt.besancon.fr/event/les-24h-du-temps-les-20-et-21-juin-2026/
CATEGORIES:Accrochage,atelier,Evénement,Horlogerie,rencontre,tout public,Visite guidée
END:VEVENT
END:VCALENDAR