BEGIN:VCALENDAR
VERSION:2.0
PRODID:-//musée du temps de Besançon - ECPv5.14.2.1//NONSGML v1.0//EN
CALSCALE:GREGORIAN
METHOD:PUBLISH
X-WR-CALNAME:musée du temps de Besançon
X-ORIGINAL-URL:https://www.mdt.besancon.fr
X-WR-CALDESC:évènements pour musée du temps de Besançon
BEGIN:VTIMEZONE
TZID:Europe/Paris
BEGIN:DAYLIGHT
TZOFFSETFROM:+0100
TZOFFSETTO:+0200
TZNAME:CEST
DTSTART:20260329T010000
END:DAYLIGHT
BEGIN:STANDARD
TZOFFSETFROM:+0200
TZOFFSETTO:+0100
TZNAME:CET
DTSTART:20261025T010000
END:STANDARD
END:VTIMEZONE
BEGIN:VEVENT
DTSTART;TZID=Europe/Paris:20260322T143000
DTEND;TZID=Europe/Paris:20260322T153000
DTSTAMP:20260422T154329
CREATED:20250919T094541Z
LAST-MODIFIED:20250919T094541Z
UID:6455-1774189800-1774193400@www.mdt.besancon.fr
SUMMARY:Visite guidée "La Mesure du Temps"
DESCRIPTION:Le calcul du temps et ses instruments de l’Antiquité à nos jours. \nDurée : 1h\nMerci de vous présenter 10 minutes avant l’horaire indiqué.\nSur réservation https://vosdemarches.grandbesancon.fr/billetterie/mat\nVisites gratuites (hors billet d’entrée\, gratuité le 1er dimanche de chaque mois) \n 
URL:https://www.mdt.besancon.fr/event/visite-guidee-la-mesure-du-temps-8/
CATEGORIES:Collection permanente,Mesure du Temps,public adulte,Visite guidée
END:VEVENT
END:VCALENDAR